BEGIN:VCALENDAR
VERSION:2.0
PRODID:-//sridar.com - ECPv6.15.20//NONSGML v1.0//EN
CALSCALE:GREGORIAN
METHOD:PUBLISH
X-ORIGINAL-URL:https://sridar.com
X-WR-CALDESC:Events for sridar.com
REFRESH-INTERVAL;VALUE=DURATION:PT1H
X-Robots-Tag:noindex
X-PUBLISHED-TTL:PT1H
BEGIN:VTIMEZONE
TZID:America/Vancouver
BEGIN:DAYLIGHT
TZOFFSETFROM:-0800
TZOFFSETTO:-0700
TZNAME:PDT
DTSTART:20150308T100000
END:DAYLIGHT
BEGIN:STANDARD
TZOFFSETFROM:-0700
TZOFFSETTO:-0800
TZNAME:PST
DTSTART:20151101T090000
END:STANDARD
BEGIN:DAYLIGHT
TZOFFSETFROM:-0800
TZOFFSETTO:-0700
TZNAME:PDT
DTSTART:20160313T100000
END:DAYLIGHT
BEGIN:STANDARD
TZOFFSETFROM:-0700
TZOFFSETTO:-0800
TZNAME:PST
DTSTART:20161106T090000
END:STANDARD
BEGIN:DAYLIGHT
TZOFFSETFROM:-0800
TZOFFSETTO:-0700
TZNAME:PDT
DTSTART:20170312T100000
END:DAYLIGHT
BEGIN:STANDARD
TZOFFSETFROM:-0700
TZOFFSETTO:-0800
TZNAME:PST
DTSTART:20171105T090000
END:STANDARD
BEGIN:DAYLIGHT
TZOFFSETFROM:-0800
TZOFFSETTO:-0700
TZNAME:PDT
DTSTART:20180311T100000
END:DAYLIGHT
BEGIN:STANDARD
TZOFFSETFROM:-0700
TZOFFSETTO:-0800
TZNAME:PST
DTSTART:20181104T090000
END:STANDARD
BEGIN:DAYLIGHT
TZOFFSETFROM:-0800
TZOFFSETTO:-0700
TZNAME:PDT
DTSTART:20190310T100000
END:DAYLIGHT
BEGIN:STANDARD
TZOFFSETFROM:-0700
TZOFFSETTO:-0800
TZNAME:PST
DTSTART:20191103T090000
END:STANDARD
BEGIN:DAYLIGHT
TZOFFSETFROM:-0800
TZOFFSETTO:-0700
TZNAME:PDT
DTSTART:20200308T100000
END:DAYLIGHT
BEGIN:STANDARD
TZOFFSETFROM:-0700
TZOFFSETTO:-0800
TZNAME:PST
DTSTART:20201101T090000
END:STANDARD
BEGIN:DAYLIGHT
TZOFFSETFROM:-0800
TZOFFSETTO:-0700
TZNAME:PDT
DTSTART:20210314T100000
END:DAYLIGHT
BEGIN:STANDARD
TZOFFSETFROM:-0700
TZOFFSETTO:-0800
TZNAME:PST
DTSTART:20211107T090000
END:STANDARD
BEGIN:DAYLIGHT
TZOFFSETFROM:-0800
TZOFFSETTO:-0700
TZNAME:PDT
DTSTART:20220313T100000
END:DAYLIGHT
BEGIN:STANDARD
TZOFFSETFROM:-0700
TZOFFSETTO:-0800
TZNAME:PST
DTSTART:20221106T090000
END:STANDARD
BEGIN:DAYLIGHT
TZOFFSETFROM:-0800
TZOFFSETTO:-0700
TZNAME:PDT
DTSTART:20230312T100000
END:DAYLIGHT
BEGIN:STANDARD
TZOFFSETFROM:-0700
TZOFFSETTO:-0800
TZNAME:PST
DTSTART:20231105T090000
END:STANDARD
BEGIN:DAYLIGHT
TZOFFSETFROM:-0800
TZOFFSETTO:-0700
TZNAME:PDT
DTSTART:20240310T100000
END:DAYLIGHT
BEGIN:STANDARD
TZOFFSETFROM:-0700
TZOFFSETTO:-0800
TZNAME:PST
DTSTART:20241103T090000
END:STANDARD
BEGIN:DAYLIGHT
TZOFFSETFROM:-0800
TZOFFSETTO:-0700
TZNAME:PDT
DTSTART:20250309T100000
END:DAYLIGHT
BEGIN:STANDARD
TZOFFSETFROM:-0700
TZOFFSETTO:-0800
TZNAME:PST
DTSTART:20251102T090000
END:STANDARD
END:VTIMEZONE
BEGIN:VEVENT
DTSTART;TZID=America/Vancouver:20241005T060000
DTEND;TZID=America/Vancouver:20241005T080000
DTSTAMP:20260423T094051
CREATED:20240830T154815Z
LAST-MODIFIED:20240830T164139Z
UID:14667-1728108000-1728115200@sridar.com
SUMMARY:363 Swim-A-Thon ( 363 Focus Club Members Only)
DESCRIPTION:It’s a FUN SATURDAY Club meetup for 363 swimmers\nWe collective target to Swim 25kms in 2 hours. \nTime: 6.00 AM to 8. AM\nTentative Start time: 6.10 AM \nSwim Location:\nGuildford Recreation Centre\n15105 105 Ave\, Surrey\, BC V3R 7G8\nUse day Pass \nDistances Available to choose:\n25 Meters – Just for Fun (Adults / Kids)\n50 Meters – Level 1 (Adult / Kids)\n100 Meters – Adult Level 2 (Adult / Kids)\n250 Meters – Adult Level 3\n400 Meters – Short\n750 – Sprint\n1.5 Kms- Olympic\n1.9 kms – Half Ironman\n3.0 Kms – Elite 1\n3.8 Kms – Full Ironman \nPost Event Breakfast:\nFamily can join for a Early Breakfast Starting 9 AM\nà la carte ( Food that can be ordered as separate items)\nPanorama Indian Lounge (Dosa Lounge)\n15153 56 Ave Unit – F106\, Surrey\, BC V3S 9A5 \n  \n 
URL:https://sridar.com/bt/363-swimathon-2024/
LOCATION:Guildford Recreation Centre\, 15105 105 Ave\,\, Surrey\,\, BC\, V3R 7G8\, Canada
CATEGORIES:363 Triathlon
ATTACH;FMTTYPE=image/jpeg:https://sridar.com/wp-content/uploads/2024/08/swimathon.jpg
END:VEVENT
BEGIN:VEVENT
DTSTART;TZID=America/Vancouver:20240921T170000
DTEND;TZID=America/Vancouver:20240921T210000
DTSTAMP:20260423T094051
CREATED:20240807T053654Z
LAST-MODIFIED:20240916T160714Z
UID:14063-1726938000-1726952400@sridar.com
SUMMARY:Tribe Devotional Series 1.0
DESCRIPTION:Welcome to an enchanting evening where the divine meets the musical in perfect harmony. We are honored to present a performance that transcends the ordinary\, guiding us through the sacred and soul-stirring realm of Indian devotional music. This evening\, we will embrace the spiritual essence of devotional songs in four languages: Tamil\, Malayalam\, Hindi\, and Sanskrit. \nWe are delighted to introduce The Tribe\, a unique band of talented musicians from the Lower Mainland. As they immerse us in the resonant chants and soothing melodies of Indian devotional songs\, let the music guide your spirit to a higher plane. \nAllow the soulful harmonies and rhythmic beats to uplift\, inspire\, and connect you with the divine presence that pervades our lives. \nJoin us as we celebrate the profound beauty of devotion through the magical art of Indian devotional music. \nThe Tribe Performers:\nAK Pillai\, Ashwini\, Lekshmi Vineeth\, Mithra\, Sridar and Varsha \nVegeterian Dinner is Included in the Ticket price: \n \nVenue:\nBuilding A ( Alexandra Square Complex) – Amenity hall\n20834 80 Ave\, Langley Twp\, BC V2Y 0B2 \nRecommended Parking:\nWilloughby Town Centre\nPark and walk opposite to the Building. \n_______________________________ \nWe kindly inform you that this is an invite-only event.\nAdditionally\, due to the presence of loud music and chanting\, we respectfully advise that this event is not suitable for children under the age of 5.
URL:https://sridar.com/bt/tribe-devotiona-1-0/
LOCATION:Murrayville Hall\, 20834 80 Ave\, Langley\, BC\, V3A 3N1\, Canada
CATEGORIES:Musical Night,The Tribe Band Event
ATTACH;FMTTYPE=image/jpeg:https://sridar.com/wp-content/uploads/2024/08/Tribe-Faith-Poster-copy.jpg
ORGANIZER;CN="The Tribe Music":MAILTO:contact@thetribe.ca
END:VEVENT
BEGIN:VEVENT
DTSTART;TZID=America/Vancouver:20240309T160000
DTEND;TZID=America/Vancouver:20240309T210000
DTSTAMP:20260423T094051
CREATED:20240303T151433Z
LAST-MODIFIED:20240304T194128Z
UID:13977-1710000000-1710018000@sridar.com
SUMMARY:363 Triathlon - UBC Post Dinner Party
DESCRIPTION:Hi\, All 363 Triathlon Focus Team Members\, \nWelcome to the UBC Post Dinner Party !!!\nSince the time is very short and we don’t have the exact numbers\, we booked this party hall with a Maximum 40 Member Capacity.\nOur Apologies for not accommodating all. \nPlease read carefully before booking. For this year we will accept bookings only based on the \nPriority 1: 363 Triathlon Focus Group Members Participating in the UBC Duathlon / Triathlon Event 2024. If your kids alone participating parents can book.\nPriority 2:  363 Triathlon Focus Group Members Travelling from Victoria and Calgary – Please book for your family members\nPriority 3: 363 Triathlon Focus Group Members – Not participating in the event but would like to attend. \nEvent Date:09.03.2024\nTime: 4.30 PM to 8.30 PM\nVenue: Alexandra Square\, Amenity Hall A\nAddress: 20834 80 Ave Langley\, BC V2Y 3M3\nGoogle Map: https://maps.app.goo.gl/L1FE743BHbTqyCqY6\nParking: There are few visitors parking in the building. But please park in the Willoughby Town Center and its walkable ( Just opposite to the Town Center) \nEvent Details:\nMeet and Greet Party\nSnacks and Dinner \n 
URL:https://sridar.com/bt/363-triathlon-ubc-post-dinner-party/
LOCATION:Murrayville Hall\, 20834 80 Ave\, Langley\, BC\, V3A 3N1\, Canada
CATEGORIES:363 Triathlon
ATTACH;FMTTYPE=image/jpeg:https://sridar.com/wp-content/uploads/2024/03/67164068_3154535921238084_6249937130970152960_o.jpg
END:VEVENT
BEGIN:VEVENT
DTSTART;TZID=America/Vancouver:20200314T110000
DTEND;TZID=America/Vancouver:20200314T143000
DTSTAMP:20260423T094051
CREATED:20200302T215258Z
LAST-MODIFIED:20200311T230505Z
UID:13756-1584183600-1584196200@sridar.com
SUMMARY:VTW - Networking Lunch Meet 2020
DESCRIPTION:UPDATE: 11/03/2020: EVENT CANCELATION: \nHi All\, After thinking through the current Corona Virus issue\, sadly\, we are cancelling the current Networking event and will reschedule this event when it’s safe. Thanks again for all the registrants and your refunds will be processed tonight. The Slack community will be active\, and we will move forward from there. \nMeet you soon. Hope you all understand the current situation and we are very sorry to cancel this event. For Refund and Tickets Cancellation please contact me at: Facebook Message / Sridarbiz@gmail.com \nI hope the refunds will be processed within 2-3 working days. If you still have any issues don’t hesitate to reach us. \nThanks again for your interest. \n 
URL:https://sridar.com/bt/vtw-networking-meet/
LOCATION:Tandoori Flame\, 11970 88 Ave\, Delta\, BC\, V4C 3C8\, Canada
CATEGORIES:Networking
ATTACH;FMTTYPE=image/jpeg:https://sridar.com/wp-content/uploads/2020/03/Lunch-Meet.jpg
ORGANIZER;CN="Vancouver Tamil World":MAILTO:contact@sridar.com
END:VEVENT
BEGIN:VEVENT
DTSTART;TZID=America/Vancouver:20190525T180000
DTEND;TZID=America/Vancouver:20190525T213000
DTSTAMP:20260423T094051
CREATED:20190501T034000Z
LAST-MODIFIED:20190501T034345Z
UID:13688-1558807200-1558819800@sridar.com
SUMMARY:Bhakthi Thiruvizha: Season 1
DESCRIPTION:Bhakthi Thiruvizha: Music and Dance Event\nDinner Included with the Ticket Price
URL:https://sridar.com/bt/season1/
LOCATION:North Delta Theatre\,11447\, 82nd Ave\, Delta BC\, North Delta Theatre\, Delta\, BC\, Canada
ATTACH;FMTTYPE=image/jpeg:https://sridar.com/wp-content/uploads/2019/04/WhatsApp-Image-2019-04-30-at-8.27.50-AM.jpeg
END:VEVENT
BEGIN:VEVENT
DTSTART;TZID=America/Vancouver:20190427T180000
DTEND;TZID=America/Vancouver:20190427T220000
DTSTAMP:20260423T094051
CREATED:20190311T013839Z
LAST-MODIFIED:20190401T034122Z
UID:13635-1556388000-1556402400@sridar.com
SUMMARY:ORU PON MALAI POZHUTHU - TCSBC SILVER JUBILEE CELEBRATION
DESCRIPTION:ORU PON MALAI POZHUTHU – TCSBC SILVER JUBILEE CELEBRATION\nBY ELMO’S GEETANJALI Thamil Band with Four Super Singers
URL:https://sridar.com/bt/oru-pon-malai-pozhuthu-tcsbc-silver-jubilee-celebration/
LOCATION:North Delta Theatre\,11447\, 82nd Ave\, Delta BC\, North Delta Theatre\, Delta\, BC\, Canada
CATEGORIES:Musical Night
ATTACH;FMTTYPE=image/jpeg:https://sridar.com/wp-content/uploads/2019/03/Untitled-2.jpg
END:VEVENT
BEGIN:VEVENT
DTSTART;TZID=America/Vancouver:20190308T193000
DTEND;TZID=America/Vancouver:20190308T210000
DTSTAMP:20260423T094051
CREATED:20181206T204632Z
LAST-MODIFIED:20190306T151115Z
UID:13290-1552073400-1552078800@sridar.com
SUMMARY:Bharata natyam by Kiruthika Rathanaswami (March 8th\, Friday Show)
DESCRIPTION:Kiruthika Rathanaswami premieres 5 new original bharata natyam works choreographed by Jai Govinda\, Artistic Director of Mandala Arts and Culture Society & Bragha Bessell and Visual Design by Sridar Elumalai highlighting the various intricate aspects of the dance form\, and the freshness of its evolution. \nVenue \nRoundhouse Community Arts & Recreation Centre \n181 Roundhouse Mews (Corner of Davie & Pacific) \nVancouver\, BC V6Z 2W3 \nSkytrain Station: Yaletown-Roundhouse \n*Parking available underground \nTickets \nStudents/Seniors $15\n*Students: Elementary\, high-school\, College/university and or students of Dance \n*Seniors (65 and older).  ID may be asked for reverification. \nAdults $18 \nwww.kiruthika.net\nwww.mandalarts.ca\nhttp://roundhouse.ca/ \nThis event is in partnership with Roundhouse Community Centre and Mandala Arts and Culture Society and Supported by Edmonton Arts Council.
URL:https://sridar.com/bt/kiruthika_march8th/
LOCATION:Roundhouse Community Arts & Recreation Centre\, 181 Roundhouse Mews (Corner of Davie & Pacific)\, Vancouver\,\, British Columbia\, V6Z 2W3\, Canada
CATEGORIES:Dance Event
ATTACH;FMTTYPE=image/jpeg:https://sridar.com/wp-content/uploads/2018/12/Final_Header-5.jpg
ORGANIZER;CN="Kiruthika Rathanaswami":MAILTO:rkiruthika4@gmail.com
END:VEVENT
BEGIN:VEVENT
DTSTART;TZID=America/Vancouver:20190307T193000
DTEND;TZID=America/Vancouver:20190307T210000
DTSTAMP:20260423T094051
CREATED:20181206T204632Z
LAST-MODIFIED:20190306T151458Z
UID:13280-1551987000-1551992400@sridar.com
SUMMARY:Bharata natyam by Kiruthika Rathanaswami (March 7th\, Thursday Show)
DESCRIPTION:Kiruthika Rathanaswami premieres 5 new original bharata natyam works choreographed by Jai Govinda\, Artistic Director of Mandala Arts and Culture Society & Bragha Bessell and Visual Design by Sridar Elumalai highlighting the various intricate aspects of the dance form\, and the freshness of its evolution. \nVenue \nRoundhouse Community Arts & Recreation Centre \n181 Roundhouse Mews (Corner of Davie & Pacific) \nVancouver\, BC V6Z 2W3 \nSkytrain Station: Yaletown-Roundhouse \n*Parking available underground \nTickets \nStudents/Seniors $15\n*Students: Elementary\, high-school\, College/university and or students of Dance \n*Seniors (65 and older).  ID may be asked for reverification. \nAdults $18 \nwww.kiruthika.net\nwww.mandalarts.ca\nhttp://roundhouse.ca/ \nThis event is in partnership with Roundhouse Community Centre and Mandala Arts and Culture Society and Supported by Edmonton Arts Council.
URL:https://sridar.com/bt/kiruthika_march7th/
LOCATION:Roundhouse Community Arts & Recreation Centre\, 181 Roundhouse Mews (Corner of Davie & Pacific)\, Vancouver\,\, British Columbia\, V6Z 2W3\, Canada
CATEGORIES:Dance Event
ATTACH;FMTTYPE=image/jpeg:https://sridar.com/wp-content/uploads/2018/12/Final_Header-5.jpg
ORGANIZER;CN="Kiruthika Rathanaswami":MAILTO:rkiruthika4@gmail.com
END:VEVENT
BEGIN:VEVENT
DTSTART;TZID=America/Vancouver:20170311T190000
DTEND;TZID=America/Vancouver:20170311T220000
DTSTAMP:20260423T094051
CREATED:20170127T073622Z
LAST-MODIFIED:20170128T042942Z
UID:12532-1489258800-1489269600@sridar.com
SUMMARY:K17 - John Sathya's Karaoke Night
DESCRIPTION:John Sathya’s Karaoke Night \nA Singing Talent Hunt Show by  Sathyam Musicals and West Orchestra\nLower Main Land’s Only South Asian Music Hub\nConducted by John Sathya\nA Professional Band welcomes all Amateurs\, Semi-Professionals and Professional Singers to be a part of a future professional band.\nClick Here for the Song Submission: \nEvent Details: \n\nThis is open for all (Music Lovers\, Amateurs\, Semi and Pro Singers)\nWe will be collecting the Singer’s Song Submission thru a Single Window System Via www.sridar.com\nJohn Satya will review all the submissions and pick the best lot of singers based on their talent.\nSelected Singers will be the part of Singing Team for the Event.\nSingers will be trained by John Sathya for the Light Music Karaoke format.\nRest of the Singers will be added to the Voice bank for future talent development.\nThis Event is a Ticketed Event. We can accommodate only 100 -120.\nPreference will be given to the selected singers and their family.\nRest of the invites will be based on” Invite Only”\n\nHow to Submit the Songs? \n\nPlease watch the Song Submission instructional video by John Sathya.\nPrepare a song ( One to 2 Minutes) for submission. ( You can submit more than one song)\nUse this link to submit  https://sridar.com/k17/\n\nWhat kind of Songs? \n\nLight Music – Cine Classical Songs (Old or new)\nNo – Carnatic music\nSongs that can be played in a Karaoke\n\nReview: \n\nJohn Sathya will review the submissions and we will be in touch with the selected singers.\nOnly selected singers will be contacted for rehearsal.\n\nImportant Dates: \nSong Submission last Date: Feb 7th  ( Midnight)\nRehearsal Date: 25th Feb ( 7 PM)\nEvent Date: March 11th ( 7-10 PM) \nNote: \n\nEvent is Lead by John Satya\nEvent Organised by: ww.sridar.com \nEveryone can compete.\nSinging Talent is the Only key for selection\nJohn Satya’s Decision is final.\nDon’t contact me or the musician personally for event inclusions.\nAll Submissions are open for all and every entry is treated with equally.\nIf you have any Questions Please text 604 -367 -7282 or email contact@sridar.com / sridarbiz@gmail.com
URL:https://sridar.com/bt/k17/
LOCATION:BC
CATEGORIES:Musical Night
ATTACH;FMTTYPE=image/jpeg:https://sridar.com/wp-content/uploads/2017/01/karaoke-night_01.jpg
ORGANIZER;CN="Vancouver Tamil World":MAILTO:contact@sridar.com
END:VEVENT
BEGIN:VEVENT
DTSTART;TZID=America/Vancouver:20160521T140000
DTEND;TZID=America/Vancouver:20160523T110000
DTSTAMP:20260423T094051
CREATED:20160501T210854Z
LAST-MODIFIED:20160510T222531Z
UID:8681-1463839200-1464001200@sridar.com
SUMMARY:Kudisai - குடிசை 2016
DESCRIPTION:Content is protected.
URL:https://sridar.com/bt/kudisai/
LOCATION:Kumsheen Rafting Resort\, 1345 Trans-Canada Highway 5 Km east of Lytton BC\, Lytton\, BC\, V0K 1Z0\, Canada
END:VEVENT
END:VCALENDAR