BEGIN:VCALENDAR
VERSION:2.0
PRODID:-//sridar.com - ECPv6.15.20//NONSGML v1.0//EN
CALSCALE:GREGORIAN
METHOD:PUBLISH
X-WR-CALNAME:sridar.com
X-ORIGINAL-URL:https://sridar.com
X-WR-CALDESC:Events for sridar.com
REFRESH-INTERVAL;VALUE=DURATION:PT1H
X-Robots-Tag:noindex
X-PUBLISHED-TTL:PT1H
BEGIN:VTIMEZONE
TZID:America/Vancouver
BEGIN:DAYLIGHT
TZOFFSETFROM:-0800
TZOFFSETTO:-0700
TZNAME:PDT
DTSTART:20230312T100000
END:DAYLIGHT
BEGIN:STANDARD
TZOFFSETFROM:-0700
TZOFFSETTO:-0800
TZNAME:PST
DTSTART:20231105T090000
END:STANDARD
BEGIN:DAYLIGHT
TZOFFSETFROM:-0800
TZOFFSETTO:-0700
TZNAME:PDT
DTSTART:20240310T100000
END:DAYLIGHT
BEGIN:STANDARD
TZOFFSETFROM:-0700
TZOFFSETTO:-0800
TZNAME:PST
DTSTART:20241103T090000
END:STANDARD
BEGIN:DAYLIGHT
TZOFFSETFROM:-0800
TZOFFSETTO:-0700
TZNAME:PDT
DTSTART:20250309T100000
END:DAYLIGHT
BEGIN:STANDARD
TZOFFSETFROM:-0700
TZOFFSETTO:-0800
TZNAME:PST
DTSTART:20251102T090000
END:STANDARD
BEGIN:DAYLIGHT
TZOFFSETFROM:-0800
TZOFFSETTO:-0700
TZNAME:PDT
DTSTART:20260308T100000
END:DAYLIGHT
BEGIN:STANDARD
TZOFFSETFROM:-0700
TZOFFSETTO:-0800
TZNAME:PST
DTSTART:20261101T090000
END:STANDARD
END:VTIMEZONE
BEGIN:VEVENT
DTSTART;TZID=America/Vancouver:20251102T170000
DTEND;TZID=America/Vancouver:20251102T210000
DTSTAMP:20260423T094044
CREATED:20251022T033032Z
LAST-MODIFIED:20251028T001549Z
UID:16134-1762102800-1762117200@sridar.com
SUMMARY:363 - Diwali Annual Event
DESCRIPTION:Come celebrate Diwali with the 363 Triathlon Club!\nWe’re bringing athletes\, families\, and our 363 Focus Club community together for an evening of lights\, food\, and connection. \nWhen: Sunday\, Nov 2\, 2025\, 5:00–9:00 PM\nWhere: 20966 77A Avenue\, Langley\, BC\nWho: 363 Triathlon Club athletes & families; 363 Focus Club members & families\nDress code: Festive / semi‑formal (traditional wear welcome!) – No Triathlon Suits / Wet Suits are banned. \nPlan: Welcome tea & sweets\, dinner\, quick club updates\, music & mingling. \nFood Menu\nSnacks\n\nThool Pakora\nTea / Coffee\n\nDinner\n\nHariyali Paneer\nDragon Chicken\nKozhi Milagu Masala\nMix Veg Korma\nParotta\nMutton Dum Biryani\nHyderabad Veg Biryani\nRaita\nCoconut Semiya Payasam\n\nLooking forward to celebrating together! \n363 Triathlon Club \n 
URL:https://sridar.com/bt/363-diwali-annual-event/
LOCATION:Nature Walk Club House\, 20966 77A Ave\, Langley\, 20966 77A Ave\, Langley\, Langley\, BC\, Canada
CATEGORIES:363 Triathlon
ATTACH;FMTTYPE=image/webp:https://sridar.com/wp-content/uploads/2025/10/2025-Diwali-copy.webp
END:VEVENT
BEGIN:VEVENT
DTSTART;TZID=America/Vancouver:20250913T170000
DTEND;TZID=America/Vancouver:20250913T200000
DTSTAMP:20260423T094044
CREATED:20250905T204155Z
LAST-MODIFIED:20250907T014046Z
UID:16045-1757782800-1757793600@sridar.com
SUMMARY:363 Strength Training Workshop
DESCRIPTION:A practical\, beginner focused workshop to build confidence with strength training fundamentals – exercises and proper technique for injury prevention\, performance and longevity. \nWho it is for\nBeginners and early intermediates looking to learn safe technique and get consistent.\nRunners/triathletes aiming to prevent injuries\, get faster\, and build muscle efficiently. \nWhat you will learn\nExercise choice and progressions\nProper form and technique for foundational lifts\, body weight exercises and machines to reduce injury risk.\nPre/post-workout nutrition for energy\, recovery\, and muscle gain.\nHow to structure a simple\, sustainable weekly plan. \nSchedule\n•⁠ ⁠Date: September 13th\, 2025\n•⁠ ⁠Time: 5pm – 8 am\n•⁠ ⁠Location: Nature Walk Club House\, 20966 77A Ave\, Langley \nWhat to bring\nComfortable workout attire\, water bottle\, training shoes \nCapacity and format\nSmall-group\, hands-on coaching with live demos and individual feedback
URL:https://sridar.com/bt/363-strength-training-workshop/
LOCATION:Nature Walk Club House\, 20966 77A Ave\, Langley\, 20966 77A Ave\, Langley\, Langley\, BC\, Canada
CATEGORIES:363 Triathlon
ATTACH;FMTTYPE=image/jpeg:https://sridar.com/wp-content/uploads/2025/09/WW.jpg
END:VEVENT
BEGIN:VEVENT
DTSTART;TZID=America/Vancouver:20250726T070000
DTEND;TZID=America/Vancouver:20250726T150000
DTSTAMP:20260423T094044
CREATED:20250710T203852Z
LAST-MODIFIED:20250715T145812Z
UID:15806-1753513200-1753542000@sridar.com
SUMMARY:363 Triathlon Lake Barbecue Party – Swim. Feast. Celebrate.
DESCRIPTION:(Please note this is for 363 Focus Club and few selected invitees only) – Its a private event and not open to public. \n📍 Location: Hayward Lake📅 Date: Saturday\, July 26th🕖 Time: 7:00 AM – 2:00 PM ( make sure you come on time otherwise the parking lot will be full andd the gates will be closed _ \nNote: Hayward Lake is one of our most popular recreation sites. Parking is available on a first come\, first served basis and we encourage visitors to arrive early to find a spot. During the warmer months the parking lot fills up by early morning. Please note re-entry is not permitted. Once the parking lot is full\, site wardens are required to close the gate until enough spaces are available to handle visitor capacity for the rest of the day. Parking lots may have spaces available while the gates are still closed.\n_________________________________________________________ \nJoin us for a high-energy\, family-friendly celebration after your triathlon session at scenic Hayward Lake! Whether you’re diving in for the swim or just coming to cheer\, there’s something for everyone. \n🌟 Event Highlights:\nMorning Swim – Refresh and recharge with your fellow athletes \nLakeside BBQ & Dosa Party – A feast by the water \nFamily Fun & Games – Activities for kids and adults alike \n🍴 Food & Catering by Panorama Indian Lounge (Dosa Lounge):\nGet ready for an unforgettable food experience featuring a Live Dosa Station and sizzling BBQ!\n\n \n  \n  \n  \n  \n  \n  \n  \n  \n🥞 Live Dosa and Poori Station:\nChoice of Dosas (Plain\,Ghee\, Podi\, Masala) – Made fresh on-site!\nLive Poori: Station: Poori Served with Poori Kizhangu\nIdly\, Medu Vada\, Sambar\, 2 Chutneys \nDrinks: Blueberry Mojito\,\nSweets: Kalyana Kesari \nBrunch: \n🔥 BBQ Specials:\nGrilled Garlic Chicken\nLamb Boti Kabob\nPaneer Tikka\nTandoori Vegetables (Broccoli\, Peppers\, Mushrooms\, Onions\, Cauliflower\, Corn Cobs) \nCurd Rice with Pickle\nGulab Jamun with Rabdi \n👉 Separate BBQ stations will be set up for vegetarians and non-vegetarians to ensure everyone can enjoy their meal comfortably.Bring your whole family and enjoy a day full of swimming\, delicious food\, games\, and laughter. This is more than just a triathlon gathering—it’s a summer celebration of community and camaraderie! \nPlease Note:\nWe are doing a full catering service from Panorama Indian Lounge (Dosa Lounge)\n\nIf you have any questions please reach out to me before booking\nNo Last minute Refund Requests please. \nLocation and Parking Info: \nhttps://www.bchydro.com/community/recreation_areas/hayward_lake.html \n🏊‍♂️ Swim Guidelines & Safety Note\nSwimming in Hayward Lake is permitted only under the following conditions: \n\n\nMandatory Requirements:✅ Bright-colored swim cap (for visibility)✅ Tow float or swim buoy (for safety)✅ Wetsuit recommended (based on water temperature) \n\n\nSupervision & Safety:🔹 Children must be accompanied by a responsible adult at all times🔹 There will be no lifeguard on duty – swim at your own risk🔹 The event organizers /363 Club are not liable for any injuries\, accidents\, or water-related incidents \n\n\nPlease assess your swimming ability and take appropriate precautions. Your safety and enjoyment are our top priority!
URL:https://sridar.com/bt/lakeparty25/
LOCATION:Hayward Lake Recreation Area\, Mission\, Mission\, BC\, V4S 1C5\, Canada
CATEGORIES:363 Triathlon
ATTACH;FMTTYPE=image/jpeg:https://sridar.com/wp-content/uploads/2025/07/Lake-scaled.jpg
END:VEVENT
BEGIN:VEVENT
DTSTART;TZID=America/Vancouver:20250406T083000
DTEND;TZID=America/Vancouver:20250406T120000
DTSTAMP:20260423T094044
CREATED:20250317T170133Z
LAST-MODIFIED:20250321T020111Z
UID:15348-1743928200-1743940800@sridar.com
SUMMARY:Triathalon Injuries and Prevention - 363 Focus Club Physio Workshop
DESCRIPTION:363 Focus Club Physio Workshop \nPlease use the following link to Participate in the Survey:\nPhysio Survey \n  \n08:45 am – Arrival and Introduction\n09:00 am – Pre-session questionnaire\n9:15 am – A glance at Triathalon injuries\nSwim – Shoulder\, Hip\, Knee\nBike – Shoulder\, Hand\, Spine\, Knee\nRun – Hip\, Knee\, Ankle\, Spine\n9:45 am – Importance of fixing the cause before starting Triathalon\n09:50 am – Prevention of Triathalon Injuries\n09:55 am -Biomechanics – Neck/upper back\, Shoulder\n10:00 am – Movement Analysis\n10:15 am- Biomechanics- back/pelvis/hip\, Knee\, Ankle\n10:25 am- Posture Analysis\n10:45 am – Practical sessions\n11:15 am – Tailoring the equipment\n11:25 am – Guest Speaker time\n11: 35am – Post-session questionnaire\n11:40 am- Question session\n11:45 am – Fit3D Body scan and High tea (parallel event)
URL:https://sridar.com/bt/triathalon-injuries-and-prevention-363-focus-club-physio-workshop/
LOCATION:DIVINE CARE PHYSIOTHERAPY SPORTS INJURY AND NEURO REHAB\, 20159 88 Ave Unit D109\, Langley\, BC\, V1M 0A4\, Canada
CATEGORIES:363 Triathlon
ATTACH;FMTTYPE=image/jpeg:https://sridar.com/wp-content/uploads/2025/03/WhatsApp-Image-2025-03-06-at-08.45.29.jpeg
END:VEVENT
BEGIN:VEVENT
DTSTART;TZID=America/Vancouver:20250405T074500
DTEND;TZID=America/Vancouver:20250405T170000
DTSTAMP:20260423T094044
CREATED:20250109T031542Z
LAST-MODIFIED:20250109T211903Z
UID:15237-1743839100-1743872400@sridar.com
SUMMARY:363 Tynehead Park Ultra
DESCRIPTION:363 Tynehead Park Ultra:\n\nThanks to our Event Sponsors:\n\n  \nPlease note\, This is not a public event.\nOnly for the 363 Focus Club Members\, Focus Club Family Members. \nEvent Format:\nParticipants must run a 4 km loop starting every 40 minutes around Tynehead Park.\nContinue running as many loops as you can until 8:00 PM or park closure\, whichever comes first. \nLoop Completion:\nEach loop must be completed within 40 minutes to be counted\, including the final lap. \nStart Times:\nAll loops begin at fixed 40-minute intervals (e.g.\, 8:00 AM\, 8:40 AM\, 9:20 AM\, etc.).\nA bell will ring at the start of each loop to signal the time to begin. \nEligibility to Win:\nParticipants competing to win must be present at the Starting Corral at the beginning of each loop.\nFailure to finish a loop within 40 minutes disqualifies the runner from the competition.\nDisqualified participants must report to the organizer and are no longer eligible to win but may continue running for personal goals. \nDetermining the Winner:\nThe winner is the last person to successfully complete a loop\, which occurs when one of the two remaining runners drops out.\nWinners will be announced in the following categories:\nMen\nWomen\nUnder 18\nOverall Champion \nSupport and Amenities:\nThis event is mostly self-supported.\nParticipants are encouraged to bring the following:\nHydration and nutrition to sustain themselves throughout the day.\nA chair or other items to rest between loops.\nAn aid station will be set up near the starting area to provide light snacks. \nGeneral Guidelines:\nStay on the designated 4 km loop.\nRespect park rules and fellow runners.\nRun safely and follow instructions from event volunteers. \nEvent debriefing at 7:50am\, participants are not in the competition if they miss the 8:00am start time. \n 
URL:https://sridar.com/bt/363ultra/
LOCATION:Tyne Head Park Surrey\, 10065 168 St\, Surrey\, BC V4N 4B5\, Surrey\, BC\, V4N 4B5\, Canada
CATEGORIES:363 Triathlon
ATTACH;FMTTYPE=image/jpeg:https://sridar.com/wp-content/uploads/2025/01/Ultra-363_Final.jpg
END:VEVENT
BEGIN:VEVENT
DTSTART;TZID=America/Vancouver:20241110T080000
DTEND;TZID=America/Vancouver:20241110T170000
DTSTAMP:20260423T094044
CREATED:20241022T132719Z
LAST-MODIFIED:20241022T134201Z
UID:15103-1731225600-1731258000@sridar.com
SUMMARY:363 Triathlon Club Annual Meet - 2024 ( Invite Only)
DESCRIPTION:Event Description:\n\n\n\n\n\n\n\n\n\n\n\nJoin us for a fun-filled afternoon with the 363 Triathlon Club as we come together to celebrate our shared passion for fitness and triathlons!\nThis exclusive gathering is a fantastic opportunity to connect\, relax\, and enjoy good food in the company of fellow club members and their families. \nWho Can Register: INVITE ONLY FOR 363 FG Members  \n\n\n\n\n\n\n\n\n\n\n\n\n\n\n\n\n\n\n363 Triathlon Club Annual Meet \n📅 Date: Sunday\, November 10th\, 2024\n⏰ Time: 12:00 PM – 3:00 PM\n📍 Venue: Panorama Indian Lounge\nAddress: 15153 56 Ave Unit – F106\, Surrey\, BC V3S 9A5 \n\nAgenda:\n🥗 Informal Lunch Meet\nEnjoy a casual lunch while connecting with fellow triathletes. \n👥 Meet and Greet\nShare in the success stories from the 2024 Triathlon Events and celebrate the achievements of our club members! \n📅 2025 Season Planning\nDiscuss the upcoming races for next year and collaborate on race goals. \n💪 Training Plans\nEngage with fellow triathletes to exchange ideas and strategies for training and preparation for the next season. \n\nRefreshments:\nEach member is encouraged to order food for themselves and their family from the restaurant’s menu. \n \n\nLimited Spots Available:\nWe have a capacity for 50-60 attendees\, so register early to secure your spot! \nThis event is an opportunity to reflect on our journey\, inspire one another\, and get excited for the upcoming season. Let’s make the 2025 triathlon year our best yet!
URL:https://sridar.com/bt/363am2024/
LOCATION:Panorama Indian Lounge (Dosa Lounge)\, 15153 56 Ave Unit - F106\,\, Surrey\,\, BC\, BC V3S 9A5\, Canada
CATEGORIES:363 Triathlon
ATTACH;FMTTYPE=image/jpeg:https://sridar.com/wp-content/uploads/2024/10/IMG_7343-copy.jpg
END:VEVENT
BEGIN:VEVENT
DTSTART;TZID=America/Vancouver:20241005T060000
DTEND;TZID=America/Vancouver:20241005T080000
DTSTAMP:20260423T094044
CREATED:20240830T154815Z
LAST-MODIFIED:20240830T164139Z
UID:14667-1728108000-1728115200@sridar.com
SUMMARY:363 Swim-A-Thon ( 363 Focus Club Members Only)
DESCRIPTION:It’s a FUN SATURDAY Club meetup for 363 swimmers\nWe collective target to Swim 25kms in 2 hours. \nTime: 6.00 AM to 8. AM\nTentative Start time: 6.10 AM \nSwim Location:\nGuildford Recreation Centre\n15105 105 Ave\, Surrey\, BC V3R 7G8\nUse day Pass \nDistances Available to choose:\n25 Meters – Just for Fun (Adults / Kids)\n50 Meters – Level 1 (Adult / Kids)\n100 Meters – Adult Level 2 (Adult / Kids)\n250 Meters – Adult Level 3\n400 Meters – Short\n750 – Sprint\n1.5 Kms- Olympic\n1.9 kms – Half Ironman\n3.0 Kms – Elite 1\n3.8 Kms – Full Ironman \nPost Event Breakfast:\nFamily can join for a Early Breakfast Starting 9 AM\nà la carte ( Food that can be ordered as separate items)\nPanorama Indian Lounge (Dosa Lounge)\n15153 56 Ave Unit – F106\, Surrey\, BC V3S 9A5 \n  \n 
URL:https://sridar.com/bt/363-swimathon-2024/
LOCATION:Guildford Recreation Centre\, 15105 105 Ave\,\, Surrey\,\, BC\, V3R 7G8\, Canada
CATEGORIES:363 Triathlon
ATTACH;FMTTYPE=image/jpeg:https://sridar.com/wp-content/uploads/2024/08/swimathon.jpg
END:VEVENT
BEGIN:VEVENT
DTSTART;TZID=America/Vancouver:20240309T160000
DTEND;TZID=America/Vancouver:20240309T210000
DTSTAMP:20260423T094044
CREATED:20240303T151433Z
LAST-MODIFIED:20240304T194128Z
UID:13977-1710000000-1710018000@sridar.com
SUMMARY:363 Triathlon - UBC Post Dinner Party
DESCRIPTION:Hi\, All 363 Triathlon Focus Team Members\, \nWelcome to the UBC Post Dinner Party !!!\nSince the time is very short and we don’t have the exact numbers\, we booked this party hall with a Maximum 40 Member Capacity.\nOur Apologies for not accommodating all. \nPlease read carefully before booking. For this year we will accept bookings only based on the \nPriority 1: 363 Triathlon Focus Group Members Participating in the UBC Duathlon / Triathlon Event 2024. If your kids alone participating parents can book.\nPriority 2:  363 Triathlon Focus Group Members Travelling from Victoria and Calgary – Please book for your family members\nPriority 3: 363 Triathlon Focus Group Members – Not participating in the event but would like to attend. \nEvent Date:09.03.2024\nTime: 4.30 PM to 8.30 PM\nVenue: Alexandra Square\, Amenity Hall A\nAddress: 20834 80 Ave Langley\, BC V2Y 3M3\nGoogle Map: https://maps.app.goo.gl/L1FE743BHbTqyCqY6\nParking: There are few visitors parking in the building. But please park in the Willoughby Town Center and its walkable ( Just opposite to the Town Center) \nEvent Details:\nMeet and Greet Party\nSnacks and Dinner \n 
URL:https://sridar.com/bt/363-triathlon-ubc-post-dinner-party/
LOCATION:Murrayville Hall\, 20834 80 Ave\, Langley\, BC\, V3A 3N1\, Canada
CATEGORIES:363 Triathlon
ATTACH;FMTTYPE=image/jpeg:https://sridar.com/wp-content/uploads/2024/03/67164068_3154535921238084_6249937130970152960_o.jpg
END:VEVENT
END:VCALENDAR